BEGIN:VCALENDAR
VERSION:2.0
PRODID:-//Muzeum Zamek w Janowcu - ECPv6.15.15//NONSGML v1.0//EN
CALSCALE:GREGORIAN
METHOD:PUBLISH
X-WR-CALNAME:Muzeum Zamek w Janowcu
X-ORIGINAL-URL:https://zamekwjanowcu.pl
X-WR-CALDESC:Wydarzenia dla Muzeum Zamek w Janowcu
REFRESH-INTERVAL;VALUE=DURATION:PT1H
X-Robots-Tag:noindex
X-PUBLISHED-TTL:PT1H
BEGIN:VTIMEZONE
TZID:UTC
BEGIN:STANDARD
TZOFFSETFROM:+0000
TZOFFSETTO:+0000
TZNAME:UTC
DTSTART:20250101T000000
END:STANDARD
END:VTIMEZONE
BEGIN:VEVENT
DTSTART;VALUE=DATE:20260824
DTEND;VALUE=DATE:20260831
DTSTAMP:20260424T082114
CREATED:20260216T112431Z
LAST-MODIFIED:20260216T112431Z
UID:6704-1787529600-1788134399@zamekwjanowcu.pl
SUMMARY:XXV Janowieckie Interpretacje Muzyki im. Jakuba Walaska
DESCRIPTION:Janowieckie Interpretacje Muzyki to międzynarodowy kurs interpretacji dla pianistów\, skrzypków\, altowiolistów\, wiolonczelistów\, kontrabasistów\, instrumentów dętych – trąbka\, waltornia\, puzon\, akordeonistów\, gitarzystów\, zespołów kameralnych i śpiewu solowego prowadzony przez wybitnych pedagogów z Polski i Europy. Kurs przeznaczony jest dla uczniów szkół muzycznych\, liceów muzycznych\, studentów i absolwentów. Kursowi towarzyszył cykl koncertów w Janowcu i w pobliskich miejscowościach w wykonaniu profesorów oraz uczestników kursu.
URL:https://zamekwjanowcu.pl/wydarzenie/xxv-janowieckie-interpretacje-muzyki-im-jakuba-walaska/
LOCATION:Zamek w Janowcu\, Zamek w Janowcu nad Wisłą\, Janowiec\, Lubelskie\, 24-123\, Poland
CATEGORIES:Wydarzenie
ATTACH;FMTTYPE=image/webp:https://zamekwjanowcu.pl/wp-content/uploads/2026/02/DSC02352-scaled.webp
END:VEVENT
END:VCALENDAR