BEGIN:VCALENDAR
VERSION:2.0
PRODID:-//Muzeum Zamek w Janowcu - ECPv6.15.15//NONSGML v1.0//EN
CALSCALE:GREGORIAN
METHOD:PUBLISH
X-WR-CALNAME:Muzeum Zamek w Janowcu
X-ORIGINAL-URL:https://zamekwjanowcu.pl
X-WR-CALDESC:Wydarzenia dla Muzeum Zamek w Janowcu
REFRESH-INTERVAL;VALUE=DURATION:PT1H
X-Robots-Tag:noindex
X-PUBLISHED-TTL:PT1H
BEGIN:VTIMEZONE
TZID:UTC
BEGIN:STANDARD
TZOFFSETFROM:+0000
TZOFFSETTO:+0000
TZNAME:UTC
DTSTART:20250101T000000
END:STANDARD
END:VTIMEZONE
BEGIN:VEVENT
DTSTART;VALUE=DATE:20261212
DTEND;VALUE=DATE:20261214
DTSTAMP:20260424T083124
CREATED:20260216T114420Z
LAST-MODIFIED:20260216T114420Z
UID:6713-1797033600-1797206399@zamekwjanowcu.pl
SUMMARY:V Jarmark Bożonarodzeniowy na Zamku w Janowcu
DESCRIPTION:Jarmark Bożonarodzeniowy na Zamku w Janowcu to wydarzenie organizowane z myślą o integracji lokalnej społeczności oraz podtrzymywaniu tradycji wigilijnego stołu\, dzielenia się\, gościnności i wspólnoty. Wydarzenie oferuje bogaty program artystyczny i kulinarny\, w tym stoiska z rękodziełem i tradycyjnymi potrawami\, wspólne dzielenie się opłatkiem\, warsztaty wykonywania ozdób świątecznych oraz liczne koncerty\, występy dzieci i pokazy artystyczne.
URL:https://zamekwjanowcu.pl/wydarzenie/v-jarmark-bozonarodzeniowy-na-zamku-w-janowcu/
LOCATION:Dziedziniec zamkowy\, Zamek w Janowcu nad Wisłą\, Janowiec\, Lubelskie\, 24-123\, Poland
CATEGORIES:Wydarzenie
ATTACH;FMTTYPE=image/jpeg:https://zamekwjanowcu.pl/wp-content/uploads/2025/02/DSC08987-scaled.jpg
END:VEVENT
END:VCALENDAR