BEGIN:VCALENDAR
VERSION:2.0
PRODID:-//Muzeum Zamek w Janowcu - ECPv6.15.15//NONSGML v1.0//EN
CALSCALE:GREGORIAN
METHOD:PUBLISH
X-WR-CALNAME:Muzeum Zamek w Janowcu
X-ORIGINAL-URL:https://zamekwjanowcu.pl
X-WR-CALDESC:Wydarzenia dla Muzeum Zamek w Janowcu
REFRESH-INTERVAL;VALUE=DURATION:PT1H
X-Robots-Tag:noindex
X-PUBLISHED-TTL:PT1H
BEGIN:VTIMEZONE
TZID:UTC
BEGIN:STANDARD
TZOFFSETFROM:+0000
TZOFFSETTO:+0000
TZNAME:UTC
DTSTART:20250101T000000
END:STANDARD
END:VTIMEZONE
BEGIN:VEVENT
DTSTART;VALUE=DATE:20260926
DTEND;VALUE=DATE:20260928
DTSTAMP:20260424T082114
CREATED:20260216T114108Z
LAST-MODIFIED:20260216T114108Z
UID:6711-1790380800-1790553599@zamekwjanowcu.pl
SUMMARY:Inauguracja roku jubileuszowego 500 lat Zamku w Janowcu
DESCRIPTION:Obchody jubileuszu 500 lat Zamku w Janowcu to wydarzenie poświęcone historii i dziedzictwu Zamku. Program łączy elementy kulturalne\, artystyczne i edukacyjne\, dając uczestnikom możliwość wspólnego świętowania bogatej historii Zamku oraz refleksji nad jego rolą i znaczeniem dla regionu.
URL:https://zamekwjanowcu.pl/wydarzenie/inauguracja-roku-jubileuszowego-500-lat-zamku-w-janowcu/
LOCATION:Zamek w Janowcu\, Zamek w Janowcu nad Wisłą\, Janowiec\, Lubelskie\, 24-123\, Poland
CATEGORIES:Wydarzenie
ATTACH;FMTTYPE=image/jpeg:https://zamekwjanowcu.pl/wp-content/uploads/2025/03/Autor-Marcin-Kawka-p.jpg
END:VEVENT
END:VCALENDAR