BEGIN:VCALENDAR
VERSION:2.0
PRODID:-//Muzeum Zamek w Janowcu - ECPv6.15.15//NONSGML v1.0//EN
CALSCALE:GREGORIAN
METHOD:PUBLISH
X-WR-CALNAME:Muzeum Zamek w Janowcu
X-ORIGINAL-URL:https://zamekwjanowcu.pl
X-WR-CALDESC:Wydarzenia dla Muzeum Zamek w Janowcu
REFRESH-INTERVAL;VALUE=DURATION:PT1H
X-Robots-Tag:noindex
X-PUBLISHED-TTL:PT1H
BEGIN:VTIMEZONE
TZID:UTC
BEGIN:STANDARD
TZOFFSETFROM:+0000
TZOFFSETTO:+0000
TZNAME:UTC
DTSTART:20250101T000000
END:STANDARD
END:VTIMEZONE
BEGIN:VEVENT
DTSTART;VALUE=DATE:20260607
DTEND;VALUE=DATE:20260608
DTSTAMP:20260419T181934
CREATED:20260209T115451Z
LAST-MODIFIED:20260409T121134Z
UID:6587-1780790400-1780876799@zamekwjanowcu.pl
SUMMARY:500 lat Zamku w Janowcu – Rycerskie Wychowanie
DESCRIPTION:Uroczyste rozpoczęcie obchodów jubileuszu 500-lecia Zamku w Janowcu\, łączące elementy edukacyjne\, kulturalne i artystyczne. Wydarzenie przybliży historię Zamku oraz jego dziedzictwo\, oferując uczestnikom pokazy\, prezentacje historyczne i warsztaty inspirowane tradycjami rycerskimi. \n 
URL:https://zamekwjanowcu.pl/wydarzenie/500-lat-zamku-w-janowcu-rycerskie-wychowanie/
LOCATION:Zamek w Janowcu\, Zamek w Janowcu nad Wisłą\, Janowiec\, Lubelskie\, 24-123\, Poland
CATEGORIES:Wydarzenie
ATTACH;FMTTYPE=image/webp:https://zamekwjanowcu.pl/wp-content/uploads/2026/02/Zamek-w-Janowcu-scaled-e1776151005812.webp
END:VEVENT
END:VCALENDAR